BEGIN:VCALENDAR
VERSION:2.0
PRODID:-//Tukios.com/
BEGIN:VEVENT
UID:a7338ac1-4ea3-45f1-ad94-863f6b505d5e@www.piedmontfuneralhome.com
DTSTAMP:20260424T174422Z
DTSTART:20260427T190000Z
DTEND:20260427T200000Z
SUMMARY:Visitation
DESCRIPTION:
URL:https://www.piedmontfuneralhome.com/obituaries/carolyn-potter
LOCATION: 8195 Old Salisbury Rd.  Linwood NC 27299
GEO:35.7454205;-80.3588581
END:VEVENT
END:VCALENDAR