BEGIN:VCALENDAR
VERSION:2.0
PRODID:-//Tukios.com/
BEGIN:VEVENT
UID:f2e1c282-eabe-4841-b5e7-6be4d0230e39@www.piedmontfuneralhome.com
DTSTAMP:20260424T175216Z
DTSTART:20260427T200000Z
DTEND:20260427T210000Z
SUMMARY:Funeral Service
DESCRIPTION:
URL:https://www.piedmontfuneralhome.com/obituaries/carolyn-potter
LOCATION: 8195 Old Salisbury Rd.  Linwood NC 27299
GEO:35.7454205;-80.3588581
END:VEVENT
END:VCALENDAR